{"text_format":"1","workbook":"xlsx","n_sheets":8,"sheets":["入力シート（ここに入力）","様式１　参加申込書（入力の必要なし）","様式２　ステージ配置図","様式３　著作権申請（入力の必要なし）","課題曲・自由曲変更申請入力シート","様式４　課題曲・自由曲変更申請書（入力の必要なし）","様式５　自由曲変更申請の著作権申請（入力の必要なし）","事務処理用"],"not_rendered":{"charts":0,"images":3,"macros":1,"external_links":0,"defined_names":9,"comments":0,"pivot_tables":0},"unopened":[],"bounds":{"document_bytes":16777216,"sheet_cells":100000,"rows_first":2000,"rows_last":500,"rows_between":2000,"halvings":0,"cell_chars":16384,"cell_head_chars":4096},"cells_cut":0,"cells_raw":0,"read":"whole","date_system":"1900"}

{"sheet":"入力シート（ここに入力）","index":0,"n_rows":75,"n_cols":19,"rows_kept":75,"cut":false,"hidden":false,"merged":[[0,1,0,9],[37,2,37,7],[33,2,33,7],[8,1,8,9],[38,1,39,1],[6,1,6,9],[38,2,38,7],[10,2,10,4],[11,2,11,6],[38,8,39,8],[38,9,39,9],[15,3,15,4],[16,3,16,8],[21,2,21,4],[20,2,20,4],[17,7,17,9],[61,1,61,2],[52,1,52,2],[53,1,53,2],[54,1,54,2],[55,1,55,2],[56,1,56,2],[57,1,57,2],[58,1,58,2],[59,1,59,2],[60,1,60,2],[56,3,56,5],[57,3,57,5],[58,3,58,5],[59,3,59,5],[60,3,60,5],[42,1,42,9],[61,3,61,5],[19,3,19,5],[55,3,55,5],[28,2,29,2],[31,2,32,2],[22,2,22,3],[23,2,23,6],[24,4,24,9],[36,2,36,7],[52,3,52,5],[53,3,53,5],[54,3,54,5],[29,4,29,9],[36,1,37,1],[34,8,35,10],[32,4,32,9],[33,1,35,1],[34,5,34,7],[35,5,35,7],[25,4,25,9],[28,4,28,9],[27,2,27,9],[24,2,26,2],[26,4,26,9],[1,1,1,9],[2,0,2,8],[39,2,39,7],[45,1,45,9],[64,1,64,9],[12,2,12,6],[51,1,51,5],[13,1,14,1],[13,3,13,4],[14,3,14,4],[17,1,19,1],[17,3,17,5],[18,3,18,5],[15,1,16,1],[24,1,32,1],[31,4,31,9]]}
[null,"令和５年度（2023年度）"]
[null,{"$f":"\"第\"&YEAR(TODAY())-1972&\"回富山県吹奏楽コンクール　参加申込データ入力シート\"","v":"第51回富山県吹奏楽コンクール　参加申込データ入力シート"}]
[]
[null,"　「入力はここまでです」と表示される箇所まで、※印の説明に従って、正しく入力をして下さい。"]
[null,"　（■色の欄は選択肢から選び、■色の欄は直接入力をして下さい。）"]
[]
[null,"プログラム作成等の際は、原則ここに入力されたデータをそのまま利用しますので、正確な入力をお願いします。"]
[]
[null,"課題曲・自由曲の変更申請をする場合、このシートに入力しないでください。「課題曲・自由曲変更申請入力シート」に入力してください。"]
[]
[null,"参加部門","※ 選択して下さい",null,null,null,null,null,null,null,null,"※ 選択して下さい","小学生部門","中学校Ｂ部門","中学校Ａ部門","高等学校Ｂ部門","高等学校Ａ部門","大学部門","職場･一般部門"]
[null,"団体名",null,null,null,null,null,"※富山県立、○○市立から記入"]
[null,"団体名ふりがな",null,null,null,null,null,"※ひらがなで入力。"]
[null,"団体長名","職　　名",null,null,"※校長・団体長・団長など"]
[null,null,"氏　　名"]
[null,"団体住所","郵便番号",null,null,"※半角で入力。930-1112のように、「-」を入れる。"]
[null,null,"住　　所",null,null,null,null,null,null,"※市町村名から"]
[null,"担当者連絡先","氏　　名",null,null,null,"メールアドレス"]
[null,null,"TEL",null,null,null,"※半角で入力。076-444-1111のように、「-」を入れる。"]
[null,null,"FAX",null,null,null,"※半角で入力。076-444-1112のように、「-」を入れる。"]
[null,"ふりがな",null,null,null,"※ひらがなで入力。姓名の間に空白を入れる。"]
[null,"指揮者名",null,null,null,"※別紙説明に従い、4文字以下の場合は姓名の間に空白を入れて5文字にする。"]
[null,"参加人数",null,null,"※指揮者を除いた人数を半角で入力して下さい。数字のみ入力。",null,null,null,null,null,null,{"$f":"IF(C24=M24,1,IF(C24=N24,2,IF(C24=O24,3,IF(C24=P24,4,IF(C24=Q24,5,0)))))","v":0}]
[null,"課題曲","※ 選択して下さい",null,null,null,null,"※課題曲がない部門は「なし（小学生またはＢ部門）」を選択",null,null,null,"※ 選択して下さい","Ⅰ　行進曲「煌めきの朝」","Ⅱ　ポロネーズとアリア　～吹奏楽のために～","Ⅲ  レトロ","Ⅳ　マーチ「ペガサスの夢」",null,"なし（小学生またはＢ部門）"]
[null,"自由曲","曲　　名","日本語"]
[null,null,null,"原　語"]
[null,null,null,"ふりがな"]
[null,null,"※組曲の場合、演奏する楽章まで正確に記入して下さい。ふりがなは、曲名のみです。"]
[null,null,"作曲者名","日本語"]
[null,null,null,"原　語"]
[null,null,"※外国人の場合は、アルフレッド・リード→「Ａ.リード」のように「.」のみ半角、その他の文字は全角で入力して下さい。"]
[null,null,"編曲者名","日本語"]
[null,null,null,"原　語"]
[null,"自由曲楽譜","※ 選択して下さい",null,null,null,null,null,null,null,null,"※ 選択して下さい","市販譜","レンタル譜","未出版"]
[null,null,"市販譜・レンタル譜の出版社名",null,null,null,null,null,{"$f":"IF(C34=\"レンタル譜\",\"許諾書コピーを忘れず郵送してください\",IF(C34=\"未出版\",\"許諾書コピーを忘れず郵送してください\",\"\"))","v":""}]
[null,null,"未出版の場合の許諾先"]
[null,"個人情報取り扱い\nに関する承諾","団体名及び指揮者名のプログラム掲載等の情報公開について"]
[null,null,"※ 選択して下さい",null,null,null,null,null,null,null,null,"※ 選択して下さい","承諾する","承諾しない"]
[null,"写真･録音の承諾","当連盟指定の業者による録音・ビデオ収録及び写真撮影を",null,null,null,null,null,"ピアノの使用","※ 選択して\n　下さい",null,"※ 選択して\n　下さい","有","無"]
[null,null,"※ 選択して下さい",null,null,null,null,null,null,null,null,"※ 選択して下さい","承諾する","承諾しない"]
[]
[null,"備考欄　※入力できない漢字の説明（例：「高」ははしご高に）や、その他必要事項がある場合に入力して下さい。"]
[]
[]
[null,"著作権申請用入力欄"]
[null,"別紙の入力のしかたを参照して、正しく入力して下さい。"]
[null,"■　課題曲の入力は必要ありません。自由曲のみ、「原語」で入力して下さい。"]
[null,"■　外国曲の場合は、原語で表記して下さい。"]
[null,"■　組曲の場合は、楽章ごとに分けて入力して下さい。（例　ローマの祭より主顕祭 「Feste Romane － La Befana」）"]
[null,"■　作曲者名、編曲者名が外国人の場合は、アルフレッド・リード→「Ａ.リード」のように「.」のみ半角、その他の文字は全角で入力して下さい。"]
[null,"■　演奏時間は、秒単位は切り上げて、分を入力して下さい。"]
[null,"　曲　　名　　※曲名を左に入力。組曲の場合、楽章名は右に。",null,null,null,null,"作曲者","編曲者","出版社","演奏時間"]
[]
[]
[]
[]
[]
[]
[]
[]
[]
[]
[]
[]
[null,"入力はここまでです。もう一度、不備がないかご確認下さい。"]
[]
[null,"印刷ボタンを押すと、大会申込書と演奏利用明細書がプリントアウトされます。"]
[null,"注）このシートはデータ入力用シートです。提出の必要はありません。"]
[]
[null,"なお、大会申込みについては、次の①②のどちらも必要です。"]
[null,"①　メールでの提出　　","入力したこのExcelファイル"]
[null,"②　関係書類の郵送　　","代表者印を押印し、大会参加料の払込兼受領書(または払込明細書)を貼り付けた大会申込書/ステージ配置図/演奏利用明細書"]
[null,"◆　①②ともに、申込受付期間は令和５年（２０２３年）年５月２４日（水）～５月３１日（水）１７：００（必着）となっています。"]
[null,"◆　資料集の実施要項を参照され、期間･期限厳守で申し込みをお願いします。"]
[null,"◆　課題曲・自由曲の変更申請期間は令和５年（２０２３年）年６月１日（木）～６月３０日（金）１７：００（必着）となっています。"]

{"sheet":"様式１　参加申込書（入力の必要なし）","index":1,"n_rows":39,"n_cols":18,"rows_kept":39,"cut":false,"hidden":false,"merged":[[15,13,15,18],[1,0,1,19],[9,13,9,14],[12,6,12,18],[13,6,13,18],[11,3,11,6],[5,4,5,18],[6,4,6,18],[9,10,9,11],[7,7,7,18],[8,11,8,13],[4,1,4,19],[10,4,10,18],[22,16,22,19],[40,0,40,8],[15,0,16,0],[8,6,8,7],[7,5,7,6],[8,9,8,10],[29,1,29,7],[21,4,21,18],[38,14,38,15],[8,4,8,5],[8,15,8,18],[38,10,38,11],[30,1,30,7],[20,4,20,7],[16,6,16,10],[36,10,36,11],[23,16,23,19],[36,13,36,18],[9,6,9,7],[15,6,15,10],[22,1,22,6],[22,7,22,15],[23,7,23,15],[14,3,14,6],[31,0,34,7],[11,1,21,1],[19,8,19,14],[20,8,20,14],[18,8,18,14],[16,13,16,18],[23,1,23,6],[24,1,24,19]]}
[]
["このシートに、入力する必要はありません。入力シートに入力すると、自動的に作成されます。"]
[]
["様式１",null,{"$f":"\"第\"&YEAR(TODAY())-1972&\"回富山県吹奏楽コンクール　参加申込書\"","v":"第51回富山県吹奏楽コンクール　参加申込書"}]
[null,"（第64回北陸吹奏楽コンクール予選／第71回全日本吹奏楽コンクール予選／第23回東日本学校吹奏楽大会予選）"]
[null,"参 加 部 門",null,null,{"$f":"'入力シート（ここに入力）'!C11","v":"※ 選択して下さい"}]
[null,"団  体  名",null,null,{"$f":"'入力シート（ここに入力）'!C12","v":0}]
[null,"団 体 住 所",null,null,"〒",{"$f":"'入力シート（ここに入力）'!D16","v":0},null,{"$f":"'入力シート（ここに入力）'!D17","v":0}]
[null,"担当者連絡先",null,null,"氏名",null,{"$f":"'入力シート（ここに入力）'!D18","v":0},null,null,"TEL",null,{"$f":"'入力シート（ここに入力）'!D19","v":0},null,null,"FAX",{"$f":"'入力シート（ここに入力）'!D20","v":0}]
[null,"指揮者名",null,null,"指揮者",null,{"$f":"'入力シート（ここに入力）'!C22","v":0},null,null,null,"参加人数",null,null,"指揮者を除き",null,{"$f":"'入力シート（ここに入力）'!C23","v":0},null,"名"]
[null,"課　題　曲",null,null,{"$f":"IF('入力シート（ここに入力）'!C24=\"なし（小学校またはＢ部門）\",\" な　し \",'入力シート（ここに入力）'!C24)","v":"※ 選択して下さい"}]
[null,"自　由　曲",null,"【曲　　名】"]
[null,null,null,null,"日本語:",null,{"$f":"'入力シート（ここに入力）'!E25","v":0}]
[null,null,null,null,"原　語:",null,{"$f":"'入力シート（ここに入力）'!E26","v":0}]
[null,null,null,"【作曲者名】",null,null,null,null,null,null,null,"【編曲者名】"]
[null,null,null,null,"日本語:",null,{"$f":"'入力シート（ここに入力）'!E29","v":0},null,null,null,null,"日本語:",null,{"$f":"'入力シート（ここに入力）'!E32","v":0}]
[null,null,null,null,"原　語:",null,{"$f":"'入力シート（ここに入力）'!E30","v":0},null,null,null,null,"原　語:",null,{"$f":"'入力シート（ここに入力）'!E33","v":0}]
[]
[null,null,null,"【自由曲使用楽譜】",null,null,null,null,{"$f":"'入力シート（ここに入力）'!C34","v":"※ 選択して下さい"}]
[null,null,null,null,"市販譜・貸譜の出版社名",null,null,null,{"$f":"'入力シート（ここに入力）'!F35","v":0}]
[null,null,null,null,"未出版の場合の許諾先",null,null,null,{"$f":"'入力シート（ここに入力）'!F36","v":0}]
[null,null,null,null,"レンタル楽譜及び未出版の楽譜を使用する場合は「演奏許諾書のコピー」を１部同封し、提出してください。"]
[null,"個人情報取り扱いに関する承諾",null,null,null,null,null,"団体名及び指揮者名のプログラム掲載等の情報公開について",null,null,null,null,null,null,null,null,{"$f":"'入力シート（ここに入力）'!C38","v":"※ 選択して下さい"}]
[null,"写真･録音の承諾",null,null,null,null,null,"当連盟指定の会社による録音・ビデオ収録及び写真撮影を",null,null,null,null,null,null,null,null,{"$f":"'入力シート（ここに入力）'!C40","v":"※ 選択して下さい"}]
[]
[]
[]
[]
[]
[null," 大会参加料　払込受領証等"]
[null,"　貼　付　欄"]
["枠より大きい場合は、枠内にのり付けをして貼って折りたたむか、縮小コピーをして貼り付けて下さい。",null,null,null,null,null,null,null,null,null,null,null,null,null,null,null,null,{"$f":"YEAR(TODAY())&\" 年 \"&MONTH(TODAY())&\" 月 \"&DAY(TODAY())&\" 日\"","v":"2023 年 5 月 9 日"}]
[]
[null,null,null,null,null,null,null,null,null,null,"富山県学校吹奏楽連盟会長　殿"]
[null,null,null,null,null,null,null,null,null,null,"　上記のとおり参加を申し込みます。"]
[]
[null,null,null,null,null,null,null,null,null,null,"団　体　名",null,null,{"$f":"'入力シート（ここに入力）'!C12","v":0}]
[]
[null,null,null,null,null,null,null,null,null,null,"団体長氏名",null,null,{"$f":"'入力シート（ここに入力）'!D14","v":0},{"$f":"'入力シート（ここに入力）'!D15","v":0},null,null,"印"]

{"sheet":"様式２　ステージ配置図","index":2,"n_rows":46,"n_cols":14,"rows_kept":46,"cut":false,"hidden":false,"merged":[[42,0,42,2],[8,2,8,5],[43,0,43,2],[44,0,44,9],[45,0,45,9],[10,0,10,1],[10,2,10,6],[10,8,10,9],[32,11,39,19],[39,0,39,9],[41,0,41,2],[41,3,41,5],[41,7,41,9],[1,1,1,8],[2,1,2,8],[3,1,3,8],[6,0,6,9],[8,0,8,1]]}
[]
[null,"ステージ配置図は、このまま印刷して、手書きで記入することができます。"]
[null,"また、下欄のピアノ・電源ドラム・長机の使用の有無と、譜面台･椅子の数を入力した上で、印刷して利用することもできます。"]
[null,"印刷ボタンを押すと、以下の白地の部分のみ印刷されます。"]
[]
[null,"様式２"]
["第51回富山県吹奏楽コンクール　ステージ配置図"]
[]
["参加部門",null,{"$f":"'入力シート（ここに入力）'!C11:E11","v":"※ 選択して下さい"},null,null,null,null,null," 出演順"]
[]
["団 体 名",null,{"$f":"'入力シート（ここに入力）'!C12:G12","v":0},null,null,null,null,null,"＊記入しないで下さい"]
[]
[]
[]
[]
[]
[]
[]
[]
[]
[]
[]
[]
[]
[]
[]
[]
[]
[]
[]
[]
[]
[]
[]
["記入のマーク"]
["◆椅子の位置：○印　　譜面台の位置：×印　　電源ドラムの位置：▲印"]
["◆ピアノ椅子(バスクラ用)：◎印"]
["※打楽器類・ピアノは形で位置を示して下さい"]
["※電子入力の場合は、右の凡例をご利用ください"]
["★譜面台を使用しない場合でも、管楽器には譜面台を配置しますので、譜面台の位置を必ずご記入下さい"]
[]
["ピアノの使用",null,null,"有　・　無",null,null,"電源ドラムの使用","有　・　無",null,null,null,"有　・　無","有","無"]
["譜面台の本数",null,null,null,null,"本","ピアノ椅子の脚数\n（管楽器用）",null,null,"脚"]
["椅子の脚数\n（ピアノ椅子を除く）",null,null,null,null,"脚"]
[]
["　ピアノ・電源ドラムの使用の有無は、選択肢から選べます。\n　譜面台･椅子の数は直接入力できます。"]

{"sheet":"様式３　著作権申請（入力の必要なし）","index":3,"n_rows":47,"n_cols":37,"rows_kept":47,"cut":false,"hidden":false,"merged":[[36,0,37,0],[36,1,36,5],[36,6,36,8],[36,9,36,14],[36,15,37,17],[36,20,37,21],[36,23,37,23],[34,35,35,35],[34,36,35,36],[34,0,35,0],[37,1,37,5],[37,6,37,8],[37,9,37,14],[36,18,36,19],[37,18,37,19],[36,28,37,28],[36,29,37,29],[36,30,37,30],[36,24,37,24],[36,34,37,34],[36,35,37,35],[36,36,37,36],[36,31,37,31],[36,32,37,32],[1,1,1,34],[34,30,35,30],[34,31,35,31],[34,32,35,32],[34,33,35,33],[34,29,35,29],[34,34,35,34],[34,23,35,23],[34,24,35,24],[34,25,35,25],[34,26,35,26],[34,27,35,27],[34,28,35,28],[34,1,34,5],[34,6,34,8],[34,9,34,14],[34,15,35,17],[35,1,35,5],[34,20,35,21],[35,9,35,14],[34,18,34,19],[35,18,35,19],[35,6,35,8],[31,1,31,5],[44,1,45,6],[45,8,45,9],[45,17,45,20],[46,8,46,9],[46,10,46,12],[46,17,46,20],[34,37,35,37],[34,38,35,38],[36,37,37,37],[36,38,37,38],[36,33,37,33],[36,25,37,25],[36,26,37,26],[36,27,37,27],[45,29,45,37],[42,34,43,34],[42,35,43,35],[42,36,43,36],[42,37,43,37],[42,32,43,32],[42,33,43,33],[42,25,43,25],[44,7,44,15],[44,17,44,20],[40,25,41,25],[42,38,43,38],[43,1,43,5],[43,6,43,8],[43,9,43,14],[42,18,42,19],[43,18,43,19],[42,28,43,28],[42,29,43,29],[42,30,43,30],[42,26,43,26],[42,27,43,27],[42,31,43,31],[40,26,41,26],[40,27,41,27],[40,28,41,28],[40,33,41,33],[40,18,40,19],[42,0,43,0],[42,1,42,5],[42,6,42,8],[42,9,42,14],[42,15,43,17],[42,23,43,23],[42,24,43,24],[41,1,41,5],[41,6,41,8],[41,9,41,14],[41,18,41,19],[40,15,41,17],[40,0,41,0],[40,1,40,5],[40,6,40,8],[40,9,40,14],[40,20,41,21],[40,23,41,23],[40,24,41,24],[42,20,43,21],[38,38,39,38],[38,34,39,34],[38,29,39,29],[38,30,39,30],[38,31,39,31],[38,32,39,32],[40,37,41,37],[40,38,41,38],[40,34,41,34],[40,29,41,29],[40,30,41,30],[40,31,41,31],[40,32,41,32],[40,35,41,35],[40,36,41,36],[39,1,39,5],[39,6,39,8],[39,9,39,14],[38,18,38,19],[39,18,39,19],[38,15,39,17],[38,0,39,0],[38,1,38,5],[38,6,38,8],[38,9,38,14],[38,28,39,28],[38,33,39,33],[38,20,39,21],[38,23,39,23],[38,24,39,24],[38,25,39,25],[32,35,33,35],[32,36,33,36],[32,37,33,37],[38,26,39,26],[38,27,39,27],[38,35,39,35],[38,36,39,36],[38,37,39,37],[32,38,33,38],[32,34,33,34],[32,29,33,29],[32,30,33,30],[32,31,33,31],[32,32,33,32],[32,26,33,26],[32,27,33,27],[33,1,33,5],[33,6,33,8],[33,9,33,14],[32,18,32,19],[33,18,33,19],[32,15,33,17],[32,0,33,0],[32,1,32,5],[32,6,32,8],[32,9,32,14],[32,28,33,28],[32,33,33,33],[32,20,33,21],[32,23,33,23],[32,24,33,24],[32,25,33,25],[31,6,31,8],[31,9,31,14],[30,18,30,19],[31,18,31,19],[30,15,31,17],[30,0,31,0],[30,1,30,5],[30,6,30,8],[30,9,30,14],[30,28,31,28],[30,33,31,33],[30,20,31,21],[30,23,31,23],[30,24,31,24],[30,25,31,25],[28,38,29,38],[28,34,29,34],[28,29,29,29],[28,30,29,30],[28,31,29,31],[28,32,29,32],[30,26,31,26],[30,27,31,27],[30,35,31,35],[30,36,31,36],[30,37,31,37],[30,38,31,38],[30,34,31,34],[30,29,31,29],[30,30,31,30],[30,31,31,31],[30,32,31,32],[28,35,29,35],[28,36,29,36],[28,37,29,37],[28,33,29,33],[28,20,29,21],[28,23,29,23],[28,24,29,24],[28,25,29,25],[28,26,29,26],[28,27,29,27],[26,38,27,38],[27,1,27,5],[27,6,27,8],[27,9,27,14],[26,32,27,32],[26,33,27,33],[26,34,27,34],[26,35,27,35],[26,36,27,36],[26,37,27,37],[26,28,27,28],[26,29,27,29],[28,0,29,0],[28,1,28,5],[28,6,28,8],[28,9,28,14],[28,28,29,28],[29,1,29,5],[29,6,29,8],[29,9,29,14],[26,31,27,31],[26,15,27,17],[26,20,27,21],[26,23,27,23],[26,24,27,24],[26,25,27,25],[26,18,26,19],[28,18,28,19],[29,18,29,19],[28,15,29,17],[24,0,25,0],[27,18,27,19],[26,26,27,26],[26,27,27,27],[24,35,25,35],[24,36,25,36],[24,31,25,31],[24,32,25,32],[24,33,25,33],[24,34,25,34],[26,0,27,0],[26,1,26,5],[26,6,26,8],[26,9,26,14],[26,30,27,30],[25,1,25,5],[24,9,24,14],[24,15,25,17],[25,6,25,8],[25,9,25,14],[24,1,24,5],[24,6,24,8],[24,38,25,38],[24,27,25,27],[24,28,25,28],[24,29,25,29],[24,30,25,30],[22,20,23,21],[22,29,23,36],[22,38,23,38],[23,23,23,28],[24,37,25,37],[24,26,25,26],[22,18,23,19],[22,23,22,28],[24,20,25,21],[24,23,25,23],[24,24,25,24],[24,25,25,25],[25,18,25,19],[24,18,24,19],[22,22,23,22],[13,16,14,37],[14,0,16,1],[14,2,16,7],[14,8,16,8],[14,9,16,15],[19,16,19,38],[10,6,12,6],[10,7,12,7],[10,8,12,15],[17,0,20,1],[17,2,20,7],[17,8,20,8],[17,9,20,15],[9,16,10,18],[11,19,12,22],[11,28,12,28],[9,23,12,27],[22,0,23,5],[22,6,23,8],[22,9,23,14],[22,15,23,17],[7,23,8,27],[3,0,4,1],[5,7,6,38],[7,0,9,1],[7,2,9,6],[7,7,9,7],[7,8,9,15],[7,16,8,18],[7,28,10,28],[7,29,12,37],[4,3,4,6],[5,0,5,2],[5,3,6,3],[5,4,6,6],[7,19,8,22],[9,19,10,22],[10,0,12,1],[10,2,12,4],[10,5,12,5],[11,16,12,18]]}
[]
[null,"このシートに、入力する必要はありません。入力シートに入力すると、自動的に作成されます。このまま印刷できます。"]
[]
["様式３"]
[null,null,null,"＊太線の枠内のみ記入してください。"]
["No,　  /",null,null,"提出日","2023 年7月1日",null,null,"　　　　演　奏　利　用　明　細　書"]
[]
["催物名",null,"第51回富山県吹奏楽コンクール",null,null,null,null,"会場名","新川文化ホール 大ホール",null,null,null,null,null,null,null,"公演回数",null,null,"１回",null,null,null,"平均入場料",null,null,null,null,"レコード"]
[]
[null,null,null,null,null,null,null,null,null,null,null,null,null,null,null,null,"公演所要時間",null,null,"420分",null,null,null,"1,300円"]
["開催日",null,"自 2023年7月15日､16日\n至 2023年7月22日､23日",null,null,4,"日間","申込者名","富山県学校吹奏楽連盟"]
[null,null,null,null,null,null,null,null,null,null,null,null,null,null,null,null,"会場の定員数",null,null,"1126名",null,null,null,null,null,null,null,null,"適"]
[]
[null,null,null,null,null,null,null,null,null,null,null,null,null,null,null,null,"  ※記入上のご注意  "]
["団体名",null,{"$f":"'入力シート（ここに入力）'!C12","v":0},null,null,null,null,null,"TEL",{"$f":"'入力シート（ここに入力）'!D19","v":0}]
[null,null,null,null,null,null,null,null,null,null,null,null,null,null,null,null,"  １．太枠のなかのみご記入下さい。"]
[null,null,null,null,null,null,null,null,null,null,null,null,null,null,null,null,"  ２．曲名は原題を、人名はフルネーム（外国人はｱﾙﾌｧﾍﾞｯﾄ）をご記入下さい。"]
["担当者名",null,{"$f":"'入力シート（ここに入力）'!D18","v":0},null,null,null,null,null,"FAX",{"$f":"'入力シート（ここに入力）'!D20","v":0},null,null,null,null,null,null,"  ３．メドレー曲は、含まれている1曲ごとに曲名・作曲者・編曲者等をご記入下さい。"]
[null,null,null,null,null,null,null,null,null,null,null,null,null,null,null,null,"  ４．組曲を全曲利用する場合は、〝全曲〟とご記入下さい。"]
[null,null,null,null,null,null,null,null,null,null,null,null,null,null,null,null,"  ５．組曲を抜粋利用する場合は、１曲ごとに曲名・作曲者・編曲者等をご記入下さい。"]
[]
[]
["演奏曲目",null,null,null,null,null,"作曲者",null,null,"編曲者",null,null,null,null,null,"出版社名",null,null,"演奏\n時間",null,"演奏\n回数",null,"純軽","使　用　料\n（作品バリュー）",null,null,null,null,null,"作品コード"]
[null,null,null,null,null,null,null,null,null,null,null,null,null,null,null,null,null,null,null,null,null,null,null,"（作品バリュー）"]
[1,{"$f":"'入力シート（ここに入力）'!B53","v":0},null,null,null,null,{"$f":"'入力シート（ここに入力）'!G53","v":0},null,null,{"$f":"'入力シート（ここに入力）'!H53","v":0},null,null,null,null,null,{"$f":"'入力シート（ここに入力）'!I53","v":0},null,null,{"$f":"'入力シート（ここに入力）'!J53","v":0},null,"1\n回",null,"Ｓ純"]
[null,{"$f":"'入力シート（ここに入力）'!D53","v":0},null,null,null,null,null,null,null,null,null,null,null,null,null,null,null,null,"分",null,null,null,"･軽"]
[2,{"$f":"'入力シート（ここに入力）'!B54","v":0},null,null,null,null,{"$f":"'入力シート（ここに入力）'!G54","v":0},null,null,{"$f":"'入力シート（ここに入力）'!H54","v":0},null,null,null,null,null,{"$f":"'入力シート（ここに入力）'!I54","v":0},null,null,{"$f":"'入力シート（ここに入力）'!J54","v":0},null,"1\n回",null,"Ｓ純"]
[null,{"$f":"'入力シート（ここに入力）'!D54","v":0},null,null,null,null,null,null,null,null,null,null,null,null,null,null,null,null,"分",null,null,null,"･軽"]
[3,{"$f":"'入力シート（ここに入力）'!B55","v":0},null,null,null,null,{"$f":"'入力シート（ここに入力）'!G55","v":0},null,null,{"$f":"'入力シート（ここに入力）'!H55","v":0},null,null,null,null,null,{"$f":"'入力シート（ここに入力）'!I55","v":0},null,null,{"$f":"'入力シート（ここに入力）'!J55","v":0},null,"1\n回",null,"Ｓ純"]
[null,{"$f":"'入力シート（ここに入力）'!D55","v":0},null,null,null,null,null,null,null,null,null,null,null,null,null,null,null,null,"分",null,null,null,"･軽"]
[4,{"$f":"'入力シート（ここに入力）'!B56","v":0},null,null,null,null,{"$f":"'入力シート（ここに入力）'!G56","v":0},null,null,{"$f":"'入力シート（ここに入力）'!H56","v":0},null,null,null,null,null,{"$f":"'入力シート（ここに入力）'!I56","v":0},null,null,{"$f":"'入力シート（ここに入力）'!J56","v":0},null,"1\n回",null,"Ｓ純"]
[null,{"$f":"'入力シート（ここに入力）'!D56","v":0},null,null,null,null,null,null,null,null,null,null,null,null,null,null,null,null,"分",null,null,null,"･軽"]
[5,{"$f":"'入力シート（ここに入力）'!B57","v":0},null,null,null,null,{"$f":"'入力シート（ここに入力）'!G57","v":0},null,null,{"$f":"'入力シート（ここに入力）'!H57","v":0},null,null,null,null,null,{"$f":"'入力シート（ここに入力）'!I57","v":0},null,null,{"$f":"'入力シート（ここに入力）'!J57","v":0},null,"1\n回",null,"Ｓ純"]
[null,{"$f":"'入力シート（ここに入力）'!D57","v":0},null,null,null,null,null,null,null,null,null,null,null,null,null,null,null,null,"分",null,null,null,"･軽"]
[6,{"$f":"'入力シート（ここに入力）'!B58","v":0},null,null,null,null,{"$f":"'入力シート（ここに入力）'!G58","v":0},null,null,{"$f":"'入力シート（ここに入力）'!H58","v":0},null,null,null,null,null,{"$f":"'入力シート（ここに入力）'!I58","v":0},null,null,{"$f":"'入力シート（ここに入力）'!J58","v":0},null,"1\n回",null,"Ｓ純"]
[null,{"$f":"'入力シート（ここに入力）'!D58","v":0},null,null,null,null,null,null,null,null,null,null,null,null,null,null,null,null,"分",null,null,null,"･軽"]
[7,{"$f":"'入力シート（ここに入力）'!B59","v":0},null,null,null,null,{"$f":"'入力シート（ここに入力）'!G59","v":0},null,null,{"$f":"'入力シート（ここに入力）'!H59","v":0},null,null,null,null,null,{"$f":"'入力シート（ここに入力）'!I59","v":0},null,null,{"$f":"'入力シート（ここに入力）'!J59","v":0},null,"1\n回",null,"Ｓ純"]
[null,{"$f":"'入力シート（ここに入力）'!D59","v":0},null,null,null,null,null,null,null,null,null,null,null,null,null,null,null,null,"分",null,null,null,"･軽"]
[8,{"$f":"'入力シート（ここに入力）'!B60","v":0},null,null,null,null,{"$f":"'入力シート（ここに入力）'!G60","v":0},null,null,{"$f":"'入力シート（ここに入力）'!H60","v":0},null,null,null,null,null,{"$f":"'入力シート（ここに入力）'!I60","v":0},null,null,{"$f":"'入力シート（ここに入力）'!J60","v":0},null,"1\n回",null,"Ｓ純"]
[null,{"$f":"'入力シート（ここに入力）'!D60","v":0},null,null,null,null,null,null,null,null,null,null,null,null,null,null,null,null,"分",null,null,null,"･軽"]
[9,{"$f":"'入力シート（ここに入力）'!B61","v":0},null,null,null,null,{"$f":"'入力シート（ここに入力）'!G61","v":0},null,null,{"$f":"'入力シート（ここに入力）'!H61","v":0},null,null,null,null,null,{"$f":"'入力シート（ここに入力）'!I61","v":0},null,null,{"$f":"'入力シート（ここに入力）'!J61","v":0},null,"1\n回",null,"Ｓ純"]
[null,{"$f":"'入力シート（ここに入力）'!D61","v":0},null,null,null,null,null,null,null,null,null,null,null,null,null,null,null,null,"分",null,null,null,"･軽"]
[10,{"$f":"'入力シート（ここに入力）'!B62","v":0},null,null,null,null,{"$f":"'入力シート（ここに入力）'!G62","v":0},null,null,{"$f":"'入力シート（ここに入力）'!H62","v":0},null,null,null,null,null,{"$f":"'入力シート（ここに入力）'!I62","v":0},null,null,{"$f":"'入力シート（ここに入力）'!J62","v":0},null,"1\n回",null,"Ｓ純"]
[null,{"$f":"'入力シート（ここに入力）'!D62","v":0},null,null,null,null,null,null,null,null,null,null,null,null,null,null,null,null,"分",null,null,null,"･軽"]
[null,null,null,null,null,null,null,"Ｎ・Ｍ･･･当協会管理外　　Ｐ・Ｄ･･･著作権消滅",null,null,null,null,null,null,null,null,null,"小計",null,null,null,null,null,null,null,null,null,null,null,9,9,9,9,9,9,9,9]
[null,null,null,null,null,null,null,null,"請求日",null,null,null,null,null,null,null,null,"消費税相当額",null,null,null,null,null,null,null,null,null,null,null,"請求書番号"]
[null," ＪＡＳＲＡＣ提出用",null,null,null,null,null,null,"種目\n規定区分",null,"Ａ",null,null,null,null,null,null,"合計"]

{"sheet":"課題曲・自由曲変更申請入力シート","index":4,"n_rows":68,"n_cols":18,"rows_kept":68,"cut":false,"hidden":false,"merged":[[24,2,24,6],[25,1,33,1],[25,2,27,2],[25,4,25,9],[26,4,26,9],[32,4,32,9],[29,2,30,2],[33,4,33,9],[58,1,58,9],[53,1,53,2],[53,3,53,5],[46,3,46,5],[48,1,48,2],[48,3,48,5],[49,1,49,2],[54,1,54,2],[54,3,54,5],[49,3,49,5],[47,3,47,5],[45,1,45,5],[29,4,29,9],[30,4,30,9],[39,1,39,9],[34,1,36,1],[35,8,36,10],[36,5,36,7],[37,2,37,7],[13,1,15,1],[14,5,14,7],[14,8,15,10],[12,4,12,9],[55,1,55,2],[55,3,55,5],[50,1,50,2],[50,3,50,5],[51,1,51,2],[51,3,51,5],[52,1,52,2],[52,3,52,5],[46,1,46,2],[47,1,47,2],[27,4,27,9],[28,2,28,9],[9,4,9,9],[10,4,10,9],[11,2,12,2],[13,2,13,7],[15,5,15,7],[0,1,0,9],[1,1,1,9],[2,0,2,8],[34,2,34,7],[35,5,35,7],[32,2,33,2],[8,4,8,9],[9,2,10,2],[22,1,22,9],[5,2,5,6],[6,1,12,1],[6,2,8,2],[6,4,6,9],[7,4,7,9],[11,4,11,9],[17,1,17,9]]}
[null,"令和５年度（2023年度）"]
[null,"第51回富山県吹奏楽コンクール課題曲・自由曲変更申請　データ入力シート"]
[]
[null,"変更前の課題曲・自由曲　入力しないでください。「入力シート(ここに入力)」よりデータが記載されています。"]
[]
[null,"課題曲",{"$f":"'入力シート（ここに入力）'!C24","v":"※ 選択して下さい"}]
[null,"自由曲","曲　　名","日本語",{"$f":"'入力シート（ここに入力）'!E25:J25","v":0}]
[null,null,null,"原　語",{"$f":"'入力シート（ここに入力）'!E26:J26","v":0}]
[null,null,null,"ふりがな",{"$f":"'入力シート（ここに入力）'!E27:J27","v":0}]
[null,null,"作曲者名","日本語",{"$f":"'入力シート（ここに入力）'!E29","v":0}]
[null,null,null,"原　語",{"$f":"'入力シート（ここに入力）'!E30","v":0}]
[null,null,"編曲者名","日本語",{"$f":"'入力シート（ここに入力）'!E32","v":0}]
[null,null,null,"原　語",{"$f":"'入力シート（ここに入力）'!E33:J33","v":0}]
[null,"自由曲楽譜",{"$f":"'入力シート（ここに入力）'!C34","v":"※ 選択して下さい"}]
[null,null,"市販譜・レンタル譜の出版社名",null,null,{"$f":"'入力シート（ここに入力）'!F35","v":0}]
[null,null,"未出版の場合の許諾先",null,null,{"$f":"'入力シート（ここに入力）'!F36","v":0}]
[]
[null,"変更後の課題曲・自由曲　「入力はここまでです」と表示される箇所まで、正しく入力をして下さい。"]
[]
[null,"課題曲のみ変更の場合でも、変更しない自由曲、ピアノ使用の入力をしてください。"]
[null,"（■色の欄は選択肢から選び、■色の欄は直接入力をして下さい。）"]
[]
[null,"プログラム作成等の際は、原則ここに入力されたデータをそのまま利用しますので、正確な入力をお願いします。"]
[null,null,null,null,null,null,null,null,null,null,null,{"$f":"IF(C25=M25,1,IF(C25=N25,2,IF(C25=O25,3,IF(C25=P25,4,IF(C25=Q25,5,0)))))","v":0}]
[null,"課題曲","※ 選択して下さい",null,null,null,null,"※課題曲がない部門は「なし（小学生またはＢ部門）」を選択",null,null,null,"※ 選択して下さい","Ⅰ　行進曲「煌めきの朝」","Ⅱ　ポロネーズとアリア　～吹奏楽のために～","Ⅲ  レトロ","Ⅳ　マーチ「ペガサスの夢」",null,"なし（小学生またはＢ部門）"]
[null,"自由曲","曲　　名","日本語"]
[null,null,null,"原　語"]
[null,null,null,"ふりがな"]
[null,null,"※組曲の場合、演奏する楽章まで正確に記入して下さい。ふりがなは、曲名のみです。"]
[null,null,"作曲者名","日本語"]
[null,null,null,"原　語"]
[null,null,"※外国人の場合は、アルフレッド・リード→「Ａ.リード」のように「.」のみ半角、その他の文字は全角で入力して下さい。"]
[null,null,"編曲者名","日本語"]
[null,null,null,"原　語"]
[null,"自由曲楽譜","※ 選択して下さい",null,null,null,null,null,null,null,null,"※ 選択して下さい","市販譜","レンタル譜","未出版"]
[null,null,"市販譜・レンタル譜の出版社名",null,null,null,null,null,{"$f":"IF(C35=\"レンタル譜\",\"許諾書コピーを忘れず郵送してください\",IF(C35=\"未出版\",\"許諾書コピーを忘れず郵送してください\",\"\"))","v":""}]
[null,null,"未出版の場合の許諾先"]
[null,"ピアノの使用","※ 選択して下さい",null,null,null,null,null,null,null,null,"※ 選択して下さい","有り","無し"]
[null,"著作権申請用入力欄"]
[null,"別紙の入力のしかたを参照して、正しく入力して下さい。"]
[null,"■　課題曲の入力は必要ありません。自由曲のみ、「原語」で入力して下さい。"]
[null,"■　外国曲の場合は、原語で表記して下さい。"]
[null,"■　組曲の場合は、楽章ごとに分けて入力して下さい。（例　ローマの祭より主顕祭 「Feste Romane － La Befana」）"]
[null,"■　作曲者名、編曲者名が外国人の場合は、アルフレッド・リード→「Ａ.リード」のように「.」のみ半角、その他の文字は全角で入力して下さい。"]
[null,"■　演奏時間は、秒単位は切り上げて、分を入力して下さい。"]
[null,"　曲　　名　　※曲名を左に入力。組曲の場合、楽章名は右に。",null,null,null,null,"作曲者","編曲者","出版社","演奏時間"]
[]
[]
[]
[]
[]
[]
[]
[]
[]
[]
[]
[]
[null,"入力はここまでです。もう一度、不備がないかご確認下さい。"]
[]
[null,"印刷ボタンを押すと、課題曲・自由曲変更申請書と演奏利用明細書がプリントアウトされます。"]
[null,"注）このシートはデータ入力用シートです。提出の必要はありません。"]
[]
[null,"なお、課題曲・自由曲変更申請に、次の①②のどちらも必要です。"]
[null,"①　メールでの提出　　","入力したこのExcelファイル"]
[null,"②　関係書類の郵送　　","⑴代表者印を押印した「様式４課題曲自由曲変更申請書」／⑵自由曲の変更をした場合は「演奏利用明細書」"]
[null,null,"⑶変更した自由曲がレンタル譜、未出版の場合は「演奏許諾書のコピー」／⑷課題曲・自由曲の変更にともなう変更後のステージ配置図"]
[null,"①②ともに、変更申請期間は令和５年（２０２３年）年６月１日（木）～６月３０日（金）１７：００（必着）となっています。"]

{"sheet":"様式４　課題曲・自由曲変更申請書（入力の必要なし）","index":5,"n_rows":43,"n_cols":18,"rows_kept":43,"cut":false,"hidden":false,"merged":[[35,4,35,17],[32,8,32,14],[42,10,42,11],[42,14,42,15],[40,13,40,17],[34,4,34,7],[34,8,34,14],[44,0,44,8],[0,0,0,1],[5,7,5,17],[5,5,5,6],[9,0,9,18],[23,0,23,18],[8,1,8,18],[36,1,36,18],[40,10,40,11],[22,1,22,18],[24,4,24,17],[25,1,35,1],[25,3,25,6],[26,6,26,17],[27,6,27,17],[28,3,28,6],[15,0,16,0],[15,6,15,10],[15,13,15,17],[16,6,16,10],[16,13,16,17],[11,1,21,1],[11,3,11,6],[12,6,12,17],[13,6,13,17],[14,3,14,6],[20,4,20,7],[7,13,7,14],[10,4,10,17],[29,6,29,10],[29,13,29,17],[33,8,33,14],[19,8,19,14],[1,0,1,18],[2,1,2,18],[3,4,3,17],[4,4,4,17],[29,0,30,0],[30,6,30,10],[30,13,30,17],[6,4,6,5],[6,6,6,7],[6,9,6,10],[20,8,20,14],[21,4,21,17],[6,11,6,13],[6,15,6,17],[7,6,7,7],[7,10,7,11]]}
["様式４"]
["第51回富山県吹奏楽コンクール 課題曲・自由曲変更申請書"]
[]
[null,"参 加 部 門",null,null,{"$f":"'入力シート（ここに入力）'!C11","v":"※ 選択して下さい"}]
[null,"団  体  名",null,null,{"$f":"'入力シート（ここに入力）'!C12","v":0}]
[null,"団 体 住 所",null,null,"〒",{"$f":"'入力シート（ここに入力）'!D16","v":0},null,{"$f":"'入力シート（ここに入力）'!D17","v":0}]
[null,"担当者連絡先",null,null,"氏名",null,{"$f":"'入力シート（ここに入力）'!D18","v":0},null,null,"TEL",null,{"$f":"'入力シート（ここに入力）'!D19","v":0},null,null,"FAX",{"$f":"'入力シート（ここに入力）'!D20","v":0}]
[null,"指揮者名",null,null,"指揮者",null,{"$f":"'入力シート（ここに入力）'!C22","v":0},null,null,null,"参加人数",null,null,"指揮者を除き",null,{"$f":"'入力シート（ここに入力）'!C23","v":0},null,"名"]
[]
["変更前"]
[null,"課　題　曲",null,null,{"$f":"IF('入力シート（ここに入力）'!C24=\"なし（小学校またはＢ部門）\",\" な　し \",'入力シート（ここに入力）'!C24)","v":"※ 選択して下さい"}]
[null,"自　由　曲",null,"【曲　　名】"]
[null,null,null,null,"日本語:",null,{"$f":"'入力シート（ここに入力）'!E25","v":0}]
[null,null,null,null,"原　語:",null,{"$f":"'入力シート（ここに入力）'!E26","v":0}]
[null,null,null,"【作曲者名】",null,null,null,null,null,null,null,"【編曲者名】"]
[null,null,null,null,"日本語:",null,{"$f":"'入力シート（ここに入力）'!E29","v":0},null,null,null,null,"日本語:",null,{"$f":"'入力シート（ここに入力）'!E32","v":0}]
[null,null,null,null,"原　語:",null,{"$f":"'入力シート（ここに入力）'!E30","v":0},null,null,null,null,"原　語:",null,{"$f":"'入力シート（ここに入力）'!E33","v":0}]
[]
[null,null,null,"【自由曲使用楽譜】",null,null,null,null,{"$f":"'入力シート（ここに入力）'!C34","v":"※ 選択して下さい"}]
[null,null,null,null,"市販譜・貸譜の出版社名",null,null,null,{"$f":"'入力シート（ここに入力）'!F35","v":0}]
[null,null,null,null,"未出版の場合の許諾先",null,null,null,{"$f":"'入力シート（ここに入力）'!F36","v":0}]
[]
[]
["変更後"]
[null,"課　題　曲",null,null,{"$f":"課題曲・自由曲変更申請入力シート!C25","v":"※ 選択して下さい"}]
[null,"自　由　曲",null,"【曲　　名】"]
[null,null,null,null,"日本語:",null,{"$f":"課題曲・自由曲変更申請入力シート!E26","v":0}]
[null,null,null,null,"原　語:",null,{"$f":"課題曲・自由曲変更申請入力シート!E27","v":0}]
[null,null,null,"【作曲者名】",null,null,null,null,null,null,null,"【編曲者名】"]
[null,null,null,null,"日本語:",null,{"$f":"課題曲・自由曲変更申請入力シート!E30","v":0},null,null,null,null,"日本語:",null,{"$f":"課題曲・自由曲変更申請入力シート!E33","v":0}]
[null,null,null,null,"原　語:",null,{"$f":"課題曲・自由曲変更申請入力シート!E31","v":0},null,null,null,null,"原　語:",null,{"$f":"課題曲・自由曲変更申請入力シート!E34","v":0}]
[]
[null,null,null,"【自由曲使用楽譜】",null,null,null,null,{"$f":"課題曲・自由曲変更申請入力シート!C35","v":"※ 選択して下さい"}]
[null,null,null,null,"市販譜・貸譜の出版社名",null,null,null,{"$f":"課題曲・自由曲変更申請入力シート!F36","v":0}]
[null,null,null,null,"未出版の場合の許諾先",null,null,null,{"$f":"課題曲・自由曲変更申請入力シート!F37","v":0}]
[null,null,null,null,"レンタル楽譜及び未出版の楽譜を使用する場合は「演奏許諾書のコピー」を１部同封し、郵送してください。"]
[]
[null,"富山県学校吹奏楽連盟会長　殿",null,null,null,null,null,null,null,null,null,null,null,null,null,null,null,{"$f":"YEAR(TODAY())&\" 年 \"&MONTH(TODAY())&\" 月 \"&DAY(TODAY())&\" 日\"","v":"2023 年 5 月 9 日"}]
[null,"　上記のとおり課題曲・自由曲の変更を申請します。"]
[]
[null,null,null,null,null,null,null,null,null,null,"団　体　名",null,null,{"$f":"'入力シート（ここに入力）'!C12","v":0}]
[]
[null,null,null,null,null,null,null,null,null,null,"団体長氏名",null,null,{"$f":"'入力シート（ここに入力）'!D14","v":0},{"$f":"'入力シート（ここに入力）'!D15","v":0},null,null,"印"]

{"sheet":"様式５　自由曲変更申請の著作権申請（入力の必要なし）","index":6,"n_rows":47,"n_cols":37,"rows_kept":47,"cut":false,"hidden":false,"merged":[[46,8,46,9],[46,10,46,12],[46,17,46,20],[44,1,45,6],[44,7,44,15],[44,17,44,20],[45,8,45,9],[45,17,45,20],[45,29,45,37],[42,34,43,34],[42,35,43,35],[42,36,43,36],[42,37,43,37],[42,38,43,38],[42,30,43,30],[42,31,43,31],[42,32,43,32],[42,33,43,33],[42,28,43,28],[42,29,43,29],[42,20,43,21],[42,23,43,23],[42,24,43,24],[42,25,43,25],[42,26,43,26],[42,27,43,27],[42,0,43,0],[42,1,42,5],[42,6,42,8],[42,9,42,14],[42,15,43,17],[42,18,42,19],[43,1,43,5],[43,6,43,8],[43,9,43,14],[43,18,43,19],[40,37,41,37],[40,38,41,38],[41,1,41,5],[41,6,41,8],[41,9,41,14],[41,18,41,19],[40,28,41,28],[40,29,41,29],[40,30,41,30],[40,31,41,31],[40,32,41,32],[40,33,41,33],[40,20,41,21],[40,23,41,23],[40,24,41,24],[40,25,41,25],[40,26,41,26],[40,27,41,27],[40,0,41,0],[40,1,40,5],[40,6,40,8],[40,9,40,14],[40,15,41,17],[40,18,40,19],[38,34,39,34],[38,35,39,35],[38,36,39,36],[38,0,39,0],[40,34,41,34],[40,35,41,35],[40,36,41,36],[38,37,39,37],[38,38,39,38],[39,1,39,5],[39,6,39,8],[39,9,39,14],[39,18,39,19],[38,28,39,28],[38,29,39,29],[38,30,39,30],[38,31,39,31],[38,32,39,32],[38,33,39,33],[38,20,39,21],[38,23,39,23],[38,24,39,24],[38,25,39,25],[38,26,39,26],[38,27,39,27],[38,1,38,5],[38,6,38,8],[38,9,38,14],[38,15,39,17],[38,18,38,19],[36,37,37,37],[36,38,37,38],[37,1,37,5],[37,6,37,8],[37,9,37,14],[37,18,37,19],[36,28,37,28],[36,29,37,29],[36,30,37,30],[36,31,37,31],[36,32,37,32],[36,33,37,33],[36,20,37,21],[36,23,37,23],[36,24,37,24],[36,25,37,25],[36,26,37,26],[36,27,37,27],[36,0,37,0],[36,1,36,5],[36,6,36,8],[36,9,36,14],[36,15,37,17],[36,18,36,19],[34,34,35,34],[34,35,35,35],[34,36,35,36],[34,0,35,0],[36,34,37,34],[36,35,37,35],[36,36,37,36],[34,37,35,37],[34,38,35,38],[35,1,35,5],[35,6,35,8],[35,9,35,14],[35,18,35,19],[34,28,35,28],[34,29,35,29],[34,30,35,30],[34,31,35,31],[34,32,35,32],[34,33,35,33],[34,20,35,21],[34,23,35,23],[34,24,35,24],[34,25,35,25],[34,26,35,26],[34,27,35,27],[34,1,34,5],[34,6,34,8],[34,9,34,14],[34,15,35,17],[34,18,34,19],[32,37,33,37],[32,38,33,38],[33,1,33,5],[33,6,33,8],[33,9,33,14],[33,18,33,19],[32,28,33,28],[32,29,33,29],[32,30,33,30],[32,31,33,31],[32,32,33,32],[32,33,33,33],[32,20,33,21],[32,23,33,23],[32,24,33,24],[32,25,33,25],[32,26,33,26],[32,27,33,27],[32,0,33,0],[32,1,32,5],[32,6,32,8],[32,9,32,14],[32,15,33,17],[32,18,32,19],[30,34,31,34],[30,35,31,35],[30,36,31,36],[30,0,31,0],[32,34,33,34],[32,35,33,35],[32,36,33,36],[30,37,31,37],[30,38,31,38],[31,1,31,5],[31,6,31,8],[31,9,31,14],[31,18,31,19],[30,28,31,28],[30,29,31,29],[30,30,31,30],[30,31,31,31],[30,32,31,32],[30,33,31,33],[30,20,31,21],[30,23,31,23],[30,24,31,24],[30,25,31,25],[30,26,31,26],[30,27,31,27],[30,1,30,5],[30,6,30,8],[30,9,30,14],[30,15,31,17],[30,18,30,19],[26,35,27,35],[26,36,27,36],[26,0,27,0],[28,34,29,34],[28,35,29,35],[28,36,29,36],[28,37,29,37],[28,38,29,38],[29,1,29,5],[29,6,29,8],[29,9,29,14],[29,18,29,19],[28,28,29,28],[28,29,29,29],[28,30,29,30],[28,31,29,31],[28,32,29,32],[28,33,29,33],[28,20,29,21],[28,23,29,23],[28,24,29,24],[28,25,29,25],[28,26,29,26],[28,27,29,27],[26,31,27,31],[26,32,27,32],[28,0,29,0],[28,1,28,5],[28,6,28,8],[28,9,28,14],[28,15,29,17],[28,18,28,19],[26,34,27,34],[25,1,25,5],[25,6,25,8],[25,9,25,14],[26,37,27,37],[26,38,27,38],[27,1,27,5],[27,6,27,8],[27,9,27,14],[27,18,27,19],[26,28,27,28],[26,33,27,33],[26,20,27,21],[26,23,27,23],[26,24,27,24],[26,25,27,25],[26,26,27,26],[26,1,26,5],[26,6,26,8],[26,9,26,14],[26,15,27,17],[26,18,26,19],[26,27,27,27],[26,29,27,29],[26,30,27,30],[24,38,25,38],[24,27,25,27],[24,28,25,28],[24,31,25,31],[24,32,25,32],[24,0,25,0],[24,1,24,5],[24,6,24,8],[24,9,24,14],[24,15,25,17],[24,34,25,34],[24,35,25,35],[24,36,25,36],[24,37,25,37],[24,18,24,19],[24,20,25,21],[24,23,25,23],[24,24,25,24],[24,29,25,29],[24,30,25,30],[24,33,25,33],[24,25,25,25],[24,26,25,26],[25,18,25,19],[17,0,20,1],[17,2,20,7],[17,8,20,8],[17,9,20,15],[19,16,19,38],[22,0,23,5],[22,6,23,8],[22,9,23,14],[22,15,23,17],[22,18,23,19],[22,20,23,21],[22,22,23,22],[22,23,22,28],[22,29,23,36],[22,38,23,38],[23,23,23,28],[7,2,9,6],[7,7,9,7],[7,8,9,15],[7,16,8,18],[7,19,8,22],[13,16,14,37],[14,0,16,1],[14,2,16,7],[14,8,16,8],[14,9,16,15],[1,1,1,34],[3,0,4,1],[4,3,4,6],[5,0,5,2],[5,3,6,3],[5,4,6,6],[5,7,6,38],[3,21,4,38],[10,0,12,1],[10,2,12,4],[10,5,12,5],[10,6,12,6],[10,7,12,7],[10,8,12,15],[7,23,8,27],[7,28,10,28],[7,29,12,37],[9,16,10,18],[9,19,10,22],[9,23,12,27],[11,16,12,18],[11,19,12,22],[11,28,12,28],[7,0,9,1]]}
[]
[null,"このシートに、入力する必要はありません。入力シートに入力すると、自動的に作成されます。このまま印刷できます。"]
[]
["様式５",null,null,null,null,null,null,null,null,null,null,null,null,null,null,null,null,null,null,null,null,"自由曲変更申請時に提出"]
[null,null,null,"＊太線の枠内のみ記入してください。"]
["No,　  /",null,null,"提出日","2023 年7月1日",null,null,"　　　　演　奏　利　用　明　細　書"]
[]
["催物名",null,"第51回富山県吹奏楽コンクール",null,null,null,null,"会場名","新川文化ホール 大ホール",null,null,null,null,null,null,null,"公演回数",null,null,"１回",null,null,null,"平均入場料",null,null,null,null,"レコード"]
[]
[null,null,null,null,null,null,null,null,null,null,null,null,null,null,null,null,"公演所要時間",null,null,"420分",null,null,null,"1,300円"]
["開催日",null,"自 2023年7月15日､16日\n至 2023年7月22日､23日",null,null,4,"日間","申込者名","富山県学校吹奏楽連盟"]
[null,null,null,null,null,null,null,null,null,null,null,null,null,null,null,null,"会場の定員数",null,null,"1126名",null,null,null,null,null,null,null,null,"適"]
[]
[null,null,null,null,null,null,null,null,null,null,null,null,null,null,null,null,"  ※記入上のご注意  "]
["団体名",null,{"$f":"'入力シート（ここに入力）'!C12","v":0},null,null,null,null,null,"TEL",{"$f":"'入力シート（ここに入力）'!D19","v":0}]
[null,null,null,null,null,null,null,null,null,null,null,null,null,null,null,null,"  １．太枠のなかのみご記入下さい。"]
[null,null,null,null,null,null,null,null,null,null,null,null,null,null,null,null,"  ２．曲名は原題を、人名はフルネーム（外国人はｱﾙﾌｧﾍﾞｯﾄ）をご記入下さい。"]
["担当者名",null,{"$f":"'入力シート（ここに入力）'!D18","v":0},null,null,null,null,null,"FAX",{"$f":"'入力シート（ここに入力）'!D20","v":0},null,null,null,null,null,null,"  ３．メドレー曲は、含まれている1曲ごとに曲名・作曲者・編曲者等をご記入下さい。"]
[null,null,null,null,null,null,null,null,null,null,null,null,null,null,null,null,"  ４．組曲を全曲利用する場合は、〝全曲〟とご記入下さい。"]
[null,null,null,null,null,null,null,null,null,null,null,null,null,null,null,null,"  ５．組曲を抜粋利用する場合は、１曲ごとに曲名・作曲者・編曲者等をご記入下さい。"]
[]
[]
["演奏曲目",null,null,null,null,null,"作曲者",null,null,"編曲者",null,null,null,null,null,"出版社名",null,null,"演奏\n時間",null,"演奏\n回数",null,"純軽","使　用　料\n（作品バリュー）",null,null,null,null,null,"作品コード"]
[null,null,null,null,null,null,null,null,null,null,null,null,null,null,null,null,null,null,null,null,null,null,null,"（作品バリュー）"]
[1,{"$f":"課題曲・自由曲変更申請入力シート!B47","v":0},null,null,null,null,{"$f":"課題曲・自由曲変更申請入力シート!G47","v":0},null,null,{"$f":"課題曲・自由曲変更申請入力シート!H47","v":0},null,null,null,null,null,{"$f":"課題曲・自由曲変更申請入力シート!I47","v":0},null,null,{"$f":"課題曲・自由曲変更申請入力シート!J47","v":0},null,"1\n回",null,"Ｓ純"]
[null,{"$f":"課題曲・自由曲変更申請入力シート!D47","v":0},null,null,null,null,null,null,null,null,null,null,null,null,null,null,null,null,"分",null,null,null,"･軽"]
[2,{"$f":"課題曲・自由曲変更申請入力シート!B48","v":0},null,null,null,null,{"$f":"課題曲・自由曲変更申請入力シート!G48","v":0},null,null,{"$f":"課題曲・自由曲変更申請入力シート!H48","v":0},null,null,null,null,null,{"$f":"課題曲・自由曲変更申請入力シート!I49","v":0},null,null,{"$f":"課題曲・自由曲変更申請入力シート!J48","v":0},null,"1\n回",null,"Ｓ純"]
[null,{"$f":"課題曲・自由曲変更申請入力シート!D48","v":0},null,null,null,null,null,null,null,null,null,null,null,null,null,null,null,null,"分",null,null,null,"･軽"]
[3,{"$f":"課題曲・自由曲変更申請入力シート!B49","v":0},null,null,null,null,{"$f":"課題曲・自由曲変更申請入力シート!G49","v":0},null,null,{"$f":"課題曲・自由曲変更申請入力シート!H49","v":0},null,null,null,null,null,{"$f":"課題曲・自由曲変更申請入力シート!I49","v":0},null,null,{"$f":"課題曲・自由曲変更申請入力シート!J49","v":0},null,"1\n回",null,"Ｓ純"]
[null,{"$f":"課題曲・自由曲変更申請入力シート!D49","v":0},null,null,null,null,null,null,null,null,null,null,null,null,null,null,null,null,"分",null,null,null,"･軽"]
[4,{"$f":"課題曲・自由曲変更申請入力シート!B50","v":0},null,null,null,null,{"$f":"課題曲・自由曲変更申請入力シート!G50","v":0},null,null,{"$f":"課題曲・自由曲変更申請入力シート!H50","v":0},null,null,null,null,null,{"$f":"課題曲・自由曲変更申請入力シート!I50","v":0},null,null,{"$f":"課題曲・自由曲変更申請入力シート!J50","v":0},null,"1\n回",null,"Ｓ純"]
[null,{"$f":"課題曲・自由曲変更申請入力シート!D50","v":0},null,null,null,null,null,null,null,null,null,null,null,null,null,null,null,null,"分",null,null,null,"･軽"]
[5,{"$f":"課題曲・自由曲変更申請入力シート!B51","v":0},null,null,null,null,{"$f":"課題曲・自由曲変更申請入力シート!G51","v":0},null,null,{"$f":"課題曲・自由曲変更申請入力シート!H51","v":0},null,null,null,null,null,{"$f":"課題曲・自由曲変更申請入力シート!I51","v":0},null,null,{"$f":"課題曲・自由曲変更申請入力シート!J51","v":0},null,"1\n回",null,"Ｓ純"]
[null,{"$f":"課題曲・自由曲変更申請入力シート!D51","v":0},null,null,null,null,null,null,null,null,null,null,null,null,null,null,null,null,"分",null,null,null,"･軽"]
[6,{"$f":"課題曲・自由曲変更申請入力シート!B52","v":0},null,null,null,null,{"$f":"課題曲・自由曲変更申請入力シート!G52","v":0},null,null,{"$f":"課題曲・自由曲変更申請入力シート!H52","v":0},null,null,null,null,null,{"$f":"課題曲・自由曲変更申請入力シート!I52","v":0},null,null,{"$f":"課題曲・自由曲変更申請入力シート!J52","v":0},null,"1\n回",null,"Ｓ純"]
[null,{"$f":"課題曲・自由曲変更申請入力シート!D52","v":0},null,null,null,null,null,null,null,null,null,null,null,null,null,null,null,null,"分",null,null,null,"･軽"]
[7,{"$f":"課題曲・自由曲変更申請入力シート!B53","v":0},null,null,null,null,{"$f":"課題曲・自由曲変更申請入力シート!G53","v":0},null,null,{"$f":"課題曲・自由曲変更申請入力シート!H53","v":0},null,null,null,null,null,{"$f":"課題曲・自由曲変更申請入力シート!I53","v":0},null,null,{"$f":"課題曲・自由曲変更申請入力シート!J53","v":0},null,"1\n回",null,"Ｓ純"]
[null,{"$f":"課題曲・自由曲変更申請入力シート!D53","v":0},null,null,null,null,null,null,null,null,null,null,null,null,null,null,null,null,"分",null,null,null,"･軽"]
[8,{"$f":"課題曲・自由曲変更申請入力シート!B54","v":0},null,null,null,null,{"$f":"課題曲・自由曲変更申請入力シート!G54","v":0},null,null,{"$f":"課題曲・自由曲変更申請入力シート!H54","v":0},null,null,null,null,null,{"$f":"課題曲・自由曲変更申請入力シート!I54","v":0},null,null,{"$f":"課題曲・自由曲変更申請入力シート!J54","v":0},null,"1\n回",null,"Ｓ純"]
[null,{"$f":"課題曲・自由曲変更申請入力シート!D54","v":0},null,null,null,null,null,null,null,null,null,null,null,null,null,null,null,null,"分",null,null,null,"･軽"]
[9,{"$f":"課題曲・自由曲変更申請入力シート!B55","v":0},null,null,null,null,{"$f":"課題曲・自由曲変更申請入力シート!G55","v":0},null,null,{"$f":"課題曲・自由曲変更申請入力シート!H55","v":0},null,null,null,null,null,{"$f":"課題曲・自由曲変更申請入力シート!I55","v":0},null,null,{"$f":"課題曲・自由曲変更申請入力シート!J55","v":0},null,"1\n回",null,"Ｓ純"]
[null,{"$f":"課題曲・自由曲変更申請入力シート!D55","v":0},null,null,null,null,null,null,null,null,null,null,null,null,null,null,null,null,"分",null,null,null,"･軽"]
[10,{"$f":"課題曲・自由曲変更申請入力シート!B56","v":0},null,null,null,null,{"$f":"課題曲・自由曲変更申請入力シート!G56","v":0},null,null,{"$f":"課題曲・自由曲変更申請入力シート!H56","v":0},null,null,null,null,null,{"$f":"課題曲・自由曲変更申請入力シート!I56","v":0},null,null,{"$f":"課題曲・自由曲変更申請入力シート!J56","v":0},null,"1\n回",null,"Ｓ純"]
[null,{"$f":"課題曲・自由曲変更申請入力シート!D56","v":0},null,null,null,null,null,null,null,null,null,null,null,null,null,null,null,null,"分",null,null,null,"･軽"]
[null,null,null,null,null,null,null,"Ｎ・Ｍ･･･当協会管理外　　Ｐ・Ｄ･･･著作権消滅",null,null,null,null,null,null,null,null,null,"小計",null,null,null,null,null,null,null,null,null,null,null,9,9,9,9,9,9,9,9]
[null,null,null,null,null,null,null,null,"請求日",null,null,null,null,null,null,null,null,"消費税相当額",null,null,null,null,null,null,null,null,null,null,null,"請求書番号"]
[null," ＪＡＳＲＡＣ提出用",null,null,null,null,null,null,"種目\n規定区分",null,"Ａ",null,null,null,null,null,null,"合計"]

{"sheet":"事務処理用","index":7,"n_rows":5,"n_cols":26,"rows_kept":5,"cut":false,"hidden":false,"merged":[]}
[null,"事務処理用"]
[null,"Ｎｏ","部門","団体名","人数","指揮者","指揮者ふりがな","課題曲","課","自由曲　日本語","自由曲　ふりがな","自由曲　原語","作曲者名　日本語","作曲者名　原語","編曲者名　日本語","編曲者名　原語","楽譜","出版社名","許諾先","録音･撮影","ピアノ","連絡担当者","メール","TEL","FAX","備考"]
[null,null,{"$f":"'入力シート（ここに入力）'!C11","v":"※ 選択して下さい"},{"$f":"'入力シート（ここに入力）'!C12","v":0},{"$f":"'入力シート（ここに入力）'!C23","v":0},{"$f":"'入力シート（ここに入力）'!C22","v":0},{"$f":"'入力シート（ここに入力）'!C21","v":0},{"$f":"'入力シート（ここに入力）'!C24","v":"※ 選択して下さい"},{"$f":"'入力シート（ここに入力）'!L23","v":0},{"$f":"'入力シート（ここに入力）'!E25","v":0},{"$f":"'入力シート（ここに入力）'!E27","v":0},{"$f":"'入力シート（ここに入力）'!E26","v":0},{"$f":"'入力シート（ここに入力）'!E29","v":0},{"$f":"'入力シート（ここに入力）'!E30","v":0},{"$f":"'入力シート（ここに入力）'!E32","v":0},{"$f":"'入力シート（ここに入力）'!E33","v":0},{"$f":"'入力シート（ここに入力）'!C34","v":"※ 選択して下さい"},{"$f":"'入力シート（ここに入力）'!F35","v":0},{"$f":"'入力シート（ここに入力）'!F36","v":0},{"$f":"'入力シート（ここに入力）'!C40","v":"※ 選択して下さい"},{"$f":"'入力シート（ここに入力）'!J39","v":"※ 選択して\n　下さい"},{"$f":"'入力シート（ここに入力）'!D18","v":0},{"$f":"'入力シート（ここに入力）'!H18","v":0},{"$f":"'入力シート（ここに入力）'!D19","v":0},{"$f":"'入力シート（ここに入力）'!D20","v":0},{"$f":"'入力シート（ここに入力）'!B43","v":0}]
["変更申請","Ｎｏ","部門","団体名","人数","指揮者","指揮者ふりがな","課題曲","課","自由曲　日本語","自由曲　ふりがな","自由曲　原語","作曲者名　日本語","作曲者名　原語","編曲者名　日本語","編曲者名　原語","楽譜","出版社名","許諾先","録音･撮影","ピアノ","連絡担当者","メール","TEL","FAX","備考"]
[null,null,{"$f":"'入力シート（ここに入力）'!C11","v":"※ 選択して下さい"},{"$f":"'入力シート（ここに入力）'!C12","v":0},{"$f":"'入力シート（ここに入力）'!C23","v":0},{"$f":"'入力シート（ここに入力）'!C22","v":0},{"$f":"'入力シート（ここに入力）'!C21","v":0},{"$f":"課題曲・自由曲変更申請入力シート!C25","v":"※ 選択して下さい"},{"$f":"課題曲・自由曲変更申請入力シート!L24","v":0},{"$f":"課題曲・自由曲変更申請入力シート!E26","v":0},{"$f":"課題曲・自由曲変更申請入力シート!E28","v":0},{"$f":"課題曲・自由曲変更申請入力シート!E27","v":0},{"$f":"課題曲・自由曲変更申請入力シート!E30","v":0},{"$f":"課題曲・自由曲変更申請入力シート!E31","v":0},{"$f":"課題曲・自由曲変更申請入力シート!E33","v":0},{"$f":"課題曲・自由曲変更申請入力シート!E34","v":0},{"$f":"課題曲・自由曲変更申請入力シート!C35","v":"※ 選択して下さい"},{"$f":"課題曲・自由曲変更申請入力シート!F36","v":0},{"$f":"課題曲・自由曲変更申請入力シート!F37","v":0},{"$f":"'入力シート（ここに入力）'!C40","v":"※ 選択して下さい"},{"$f":"課題曲・自由曲変更申請入力シート!C38","v":"※ 選択して下さい"},{"$f":"'入力シート（ここに入力）'!D18","v":0},{"$f":"'入力シート（ここに入力）'!H18","v":0},{"$f":"'入力シート（ここに入力）'!D19","v":0},{"$f":"'入力シート（ここに入力）'!D20","v":0},{"$f":"'入力シート（ここに入力）'!B43","v":0}]